BEGIN:VCALENDAR
VERSION:2.0
PRODID:-//Tukios.com/
BEGIN:VEVENT
UID:7206613c-b2d5-4d2e-9421-d1d6656edba3@www.chavezfuneralhome.com
DTSTAMP:20260420T205041Z
DTSTART:20260509T173000Z
DTEND:20260509T183000Z
SUMMARY:Graveside Service
DESCRIPTION:
URL:https://www.chavezfuneralhome.com/obituaries/rosabella-chona-page
LOCATION: Guadalupe County  Santa Rosa NM 88435
GEO:34.9291827;-104.6923457
END:VEVENT
END:VCALENDAR